BEGIN:VCALENDAR
VERSION:2.0
METHOD:PUBLISH
PRODID:-//Agenda.ad//NONSGML v1.0//EN
BEGIN:VEVENT
CLASS:PUBLIC
UID:f9e75ba1b5ca1342eaae66f5889b6399@agenda.ad
DTSTAMP:20260419T202814Z
DTSTART:20260306T230000Z
DTEND:20260306T230000Z
SUMMARY:<div>Cota&nbsp;1300: L'Apr&eacute;s-ski especial dia internacional de les Dones</div>
<div>&nbsp;</div>
DESCRIPTION:Cota 1300: L'Aprés-ski especial dia internaciona
 l de les Dones\n\nMés informació\nhttps://www.agenda.ad/ac
 tivitat/ordino/musica/cota 1300-l-apres-ski-especial-dia-in
 ternacional-de-les-dones- \nhttps://www.visitordino.com/\n\
 nOrganitza\nComú d'Ordino
LOCATION:Plaça La Closa
SEQUENCE:0
TRANSP:OPAQUE
X-ALT-DESC;FMTTYPE=text/html:<!DOCTYPE HTML PUBLIC "-//W3C//DTD HTML 3.2//EN"><HTML><HEAD
 ><TITLE></TITLE></HEAD><BODY><FONT FACE="Arial" SIZE=2>Cota&
 nbsp;1300: L'Apr&eacute;s-ski especial dia internacional de 
 les Dones<br/><br/><b>Més informació</b><br/><a href="http
 s://www.agenda.ad/activitat/ordino/musica/cota 1300-l-apres
 -ski-especial-dia-internacional-de-les-dones- ">https://www
 .agenda.ad/activitat/ordino/musica/cota 1300-l-apres-ski-es
 pecial-dia-internacional-de-les-dones- </a><br/>https://www
 .visitordino.com/<br/><br/><b>Organitza</b><br/>Comú d'Ordi
 no</FONT></BODY></HTML>
END:VEVENT
END:VCALENDAR